BEGIN:VCALENDAR
VERSION:2.0
PRODID:-//Acro Fit Gymnastics Center - ECPv6.15.20//NONSGML v1.0//EN
CALSCALE:GREGORIAN
METHOD:PUBLISH
X-ORIGINAL-URL:https://acrofitgymnastics-sarasota.com
X-WR-CALDESC:Events for Acro Fit Gymnastics Center
REFRESH-INTERVAL;VALUE=DURATION:PT1H
X-Robots-Tag:noindex
X-PUBLISHED-TTL:PT1H
BEGIN:VTIMEZONE
TZID:UTC
BEGIN:STANDARD
TZOFFSETFROM:+0000
TZOFFSETTO:+0000
TZNAME:UTC
DTSTART:20160101T000000
END:STANDARD
END:VTIMEZONE
BEGIN:VEVENT
DTSTART;TZID=UTC:20171222T093000
DTEND;TZID=UTC:20171222T153000
DTSTAMP:20260420T211842
CREATED:20171206T042726Z
LAST-MODIFIED:20171206T042728Z
UID:1368-1513935000-1513956600@acrofitgymnastics-sarasota.com
SUMMARY:Winter Camp
DESCRIPTION:Full & Half Day Options \nSee flyer for full details.
URL:https://acrofitgymnastics-sarasota.com/event/winter-camp-2/
CATEGORIES:Holiday Day Camps
END:VEVENT
END:VCALENDAR