BEGIN:VCALENDAR
VERSION:2.0
PRODID:-//Acro Fit Gymnastics Center - ECPv6.15.20//NONSGML v1.0//EN
CALSCALE:GREGORIAN
METHOD:PUBLISH
X-WR-CALNAME:Acro Fit Gymnastics Center
X-ORIGINAL-URL:https://acrofitgymnastics-sarasota.com
X-WR-CALDESC:Events for Acro Fit Gymnastics Center
REFRESH-INTERVAL;VALUE=DURATION:PT1H
X-Robots-Tag:noindex
X-PUBLISHED-TTL:PT1H
BEGIN:VTIMEZONE
TZID:UTC
BEGIN:STANDARD
TZOFFSETFROM:+0000
TZOFFSETTO:+0000
TZNAME:UTC
DTSTART:20170101T000000
END:STANDARD
END:VTIMEZONE
BEGIN:VEVENT
DTSTART;TZID=UTC:20190104T093000
DTEND;TZID=UTC:20190104T123000
DTSTAMP:20260420T184448
CREATED:20181201T171528Z
LAST-MODIFIED:20181201T171529Z
UID:1918-1546594200-1546605000@acrofitgymnastics-sarasota.com
SUMMARY:Tumble Tikes Camp
DESCRIPTION:Wednesday\, January 2\nFriday\, January 4\n9:30 – 12:30\nAges 2-3
URL:https://acrofitgymnastics-sarasota.com/event/tumble-tikes-camp-2/
LOCATION:Acro Fit Gymnastics\, 4015 Clark Road\, Sarasota\, FL\, 34233\, United States
CATEGORIES:Holiday Day Camps,no school
END:VEVENT
BEGIN:VEVENT
DTSTART;TZID=UTC:20190102T093000
DTEND;TZID=UTC:20190104T153000
DTSTAMP:20260420T184448
CREATED:20181201T171313Z
LAST-MODIFIED:20181201T171313Z
UID:1912-1546421400-1546615800@acrofitgymnastics-sarasota.com
SUMMARY:Winter Camp
DESCRIPTION:Students are divided up into age & ability\ngroups. Students receive instruction on bars\,\nbeam\, tumbling\, & vault everyday.\nAdditional Instructional segments on\nstretches\, strength & conditioning.\nFUN J segments: games\, crafts\, acro & dance \nWinter Break Gymnastics Camp \nCamp Days: Camp Times:\nThursday\, December 27 Half Day 9:30 – 12:30\nFriday\, December 28 Pizza & Ice cream day Full Day 9:30 – 3:30\nMonday\, December 31 Half Day Only Early Care 8:30 – 9:20\nWednesday\, January 2 After Care 3:30 – 4:00\nThursday\, January 3\nFriday\, January 4 Pizza & Ice cream day Camp Ages: 4-11yrs (4 – 6yrs boys)\nWhat To Bring: Please pack a morning snack for all campers/pack a snack & lunch (full day \nTumble Tikes Camp\nWednesday\, January 2\nFriday\, January 4\n9:30 – 12:30\nAges 2-3
URL:https://acrofitgymnastics-sarasota.com/event/winter-camp-5/
LOCATION:Acro Fit Gymnastics\, 4015 Clark Road\, Sarasota\, FL\, 34233\, United States
CATEGORIES:Holiday Day Camps,no school
END:VEVENT
BEGIN:VEVENT
DTSTART;TZID=UTC:20190102T093000
DTEND;TZID=UTC:20190102T123000
DTSTAMP:20260420T184448
CREATED:20181201T171430Z
LAST-MODIFIED:20181201T171431Z
UID:1915-1546421400-1546432200@acrofitgymnastics-sarasota.com
SUMMARY:Tumble Tikes Camp
DESCRIPTION:Wednesday\, January 2\nFriday\, January 4\n9:30 – 12:30\nAges 2-3
URL:https://acrofitgymnastics-sarasota.com/event/tumble-tikes-camp/
LOCATION:Acro Fit Gymnastics\, 4015 Clark Road\, Sarasota\, FL\, 34233\, United States
CATEGORIES:Holiday Day Camps,no school
END:VEVENT
BEGIN:VEVENT
DTSTART;TZID=UTC:20181231T093000
DTEND;TZID=UTC:20181231T153000
DTSTAMP:20260420T184448
CREATED:20181201T171208Z
LAST-MODIFIED:20181201T171208Z
UID:1909-1546248600-1546270200@acrofitgymnastics-sarasota.com
SUMMARY:Winter Camp
DESCRIPTION:Students are divided up into age & ability\ngroups. Students receive instruction on bars\,\nbeam\, tumbling\, & vault everyday.\nAdditional Instructional segments on\nstretches\, strength & conditioning.\nFUN J segments: games\, crafts\, acro & dance \nWinter Break Gymnastics Camp \nCamp Days: Camp Times:\nThursday\, December 27 Half Day 9:30 – 12:30\nFriday\, December 28 Pizza & Ice cream day Full Day 9:30 – 3:30\nMonday\, December 31 Half Day Only Early Care 8:30 – 9:20\nWednesday\, January 2 After Care 3:30 – 4:00\nThursday\, January 3\nFriday\, January 4 Pizza & Ice cream day Camp Ages: 4-11yrs (4 – 6yrs boys)\nWhat To Bring: Please pack a morning snack for all campers/pack a snack & lunch (full day \nTumble Tikes Camp\nWednesday\, January 2\nFriday\, January 4\n9:30 – 12:30\nAges 2-3
URL:https://acrofitgymnastics-sarasota.com/event/winter-camp-4/
LOCATION:Acro Fit Gymnastics\, 4015 Clark Road\, Sarasota\, FL\, 34233\, United States
CATEGORIES:Holiday Day Camps,no school
END:VEVENT
BEGIN:VEVENT
DTSTART;TZID=UTC:20181227T093000
DTEND;TZID=UTC:20181228T153000
DTSTAMP:20260420T184448
CREATED:20181201T171107Z
LAST-MODIFIED:20181201T171107Z
UID:1906-1545903000-1546011000@acrofitgymnastics-sarasota.com
SUMMARY:Winter Camp
DESCRIPTION:Students are divided up into age & ability\ngroups. Students receive instruction on bars\,\nbeam\, tumbling\, & vault everyday.\nAdditional Instructional segments on\nstretches\, strength & conditioning.\nFUN J segments: games\, crafts\, acro & dance \nWinter Break Gymnastics Camp \nCamp Days: Camp Times:\nThursday\, December 27 Half Day 9:30 – 12:30\nFriday\, December 28 Pizza & Ice cream day Full Day 9:30 – 3:30\nMonday\, December 31 Half Day Only Early Care 8:30 – 9:20\nWednesday\, January 2 After Care 3:30 – 4:00\nThursday\, January 3\nFriday\, January 4 Pizza & Ice cream day Camp Ages: 4-11yrs (4 – 6yrs boys)\nWhat To Bring: Please pack a morning snack for all campers/pack a snack & lunch (full day \nTumble Tikes Camp\nWednesday\, January 2\nFriday\, January 4\n9:30 – 12:30\nAges 2-3
URL:https://acrofitgymnastics-sarasota.com/event/winter-camp-3/
LOCATION:FL
CATEGORIES:Holiday Day Camps,no school
END:VEVENT
BEGIN:VEVENT
DTSTART;TZID=UTC:20181221T093000
DTEND;TZID=UTC:20181221T150000
DTSTAMP:20260420T184448
CREATED:20181201T170543Z
LAST-MODIFIED:20181201T170617Z
UID:1903-1545384600-1545404400@acrofitgymnastics-sarasota.com
SUMMARY:Polar Express Day
DESCRIPTION:Polar Express Day\nFRIDAY\, DECEMBER 21\n9:30 – 3:00\n$40 1 Child / $25 Each Sibling Ages 4 – 11 (boys 4-6)\nDrop your child off for a fun J day of all things polar!:\nWinter Carnival Games * Gymnastics * Craft * Dance * Hot Chocolate * Pizza Lunch * Polar Express Big Screen 1:00 – 3:00
URL:https://acrofitgymnastics-sarasota.com/event/polar-express-day/
LOCATION:Acro Fit Gymnastics\, 4015 Clark Road\, Sarasota\, FL\, 34233\, United States
CATEGORIES:Holiday Day Camps,no school
END:VEVENT
BEGIN:VEVENT
DTSTART;TZID=UTC:20181019T093000
DTEND;TZID=UTC:20181019T153000
DTSTAMP:20260420T184448
CREATED:20181008T163132Z
LAST-MODIFIED:20181008T163424Z
UID:1808-1539941400-1539963000@acrofitgymnastics-sarasota.com
SUMMARY:Camp Day
DESCRIPTION:Camp will be offered from 9:30am-3:30pm with full and half day options.
URL:https://acrofitgymnastics-sarasota.com/event/camp-day-2/
LOCATION:Acro Fit Gymnastics\, 4015 Clark Road\, Sarasota\, FL\, 34233\, United States
CATEGORIES:no school
ATTACH;FMTTYPE=image/png:https://acrofitgymnastics-sarasota.com/wp-content/uploads/22228155_1619733324736353_4959144291034780626_n.png
END:VEVENT
BEGIN:VEVENT
DTSTART;TZID=UTC:20180326T080000
DTEND;TZID=UTC:20180330T170000
DTSTAMP:20260420T184448
CREATED:20180307T021013Z
LAST-MODIFIED:20180307T021013Z
UID:1497-1522051200-1522429200@acrofitgymnastics-sarasota.com
SUMMARY:Spring Break
DESCRIPTION:Spring Break Camp Available! Half & full day options. \nNo Classes all week. \nNo Family Play all week.
URL:https://acrofitgymnastics-sarasota.com/event/spring-break/
LOCATION:FL
CATEGORIES:Holiday Day Camps,no school
END:VEVENT
BEGIN:VEVENT
DTSTART;TZID=UTC:20180316T093000
DTEND;TZID=UTC:20180316T153000
DTSTAMP:20260420T184448
CREATED:20180307T020632Z
LAST-MODIFIED:20180307T020632Z
UID:1494-1521192600-1521214200@acrofitgymnastics-sarasota.com
SUMMARY:Camp Day!
DESCRIPTION:No School! Friday\, March 16!! Join us for a full of half day of gymnastics camp! Registration deadline is Wednesday\, March 14. Camp is for ages 4-11yrs. Early care available. See FLYER.
URL:https://acrofitgymnastics-sarasota.com/event/camp-day/
LOCATION:FL
CATEGORIES:no school
END:VEVENT
BEGIN:VEVENT
DTSTART;TZID=UTC:20180115T093000
DTEND;TZID=UTC:20180115T153000
DTSTAMP:20260420T184448
CREATED:20180109T131352Z
LAST-MODIFIED:20180109T131646Z
UID:1410-1516008600-1516030200@acrofitgymnastics-sarasota.com
SUMMARY:Camp Day
DESCRIPTION:Sarasota County Schools are off on Monday\, January 15th. We will be offering full and half day gymnastics camp for ages 4-11. We also will have Tumble Jungle Camp for our younger participants\, ages 2-3. Click here for additional information. MLK CAMP
URL:https://acrofitgymnastics-sarasota.com/event/mlkcamp/
LOCATION:FL
CATEGORIES:Holiday Day Camps,no school
END:VEVENT
END:VCALENDAR