BEGIN:VCALENDAR
VERSION:2.0
PRODID:-//Acro Fit Gymnastics Center - ECPv6.15.20//NONSGML v1.0//EN
CALSCALE:GREGORIAN
METHOD:PUBLISH
X-ORIGINAL-URL:https://acrofitgymnastics-sarasota.com
X-WR-CALDESC:Events for Acro Fit Gymnastics Center
REFRESH-INTERVAL;VALUE=DURATION:PT1H
X-Robots-Tag:noindex
X-PUBLISHED-TTL:PT1H
BEGIN:VTIMEZONE
TZID:UTC
BEGIN:STANDARD
TZOFFSETFROM:+0000
TZOFFSETTO:+0000
TZNAME:UTC
DTSTART:20170101T000000
END:STANDARD
END:VTIMEZONE
BEGIN:VEVENT
DTSTART;VALUE=DATE:20200615
DTEND;VALUE=DATE:20200616
DTSTAMP:20260417T203744
CREATED:20200602T123318Z
LAST-MODIFIED:20200602T123322Z
UID:3470-1592179200-1592265599@acrofitgymnastics-sarasota.com
SUMMARY:Classes & Camp Begin
DESCRIPTION:All class and camp schedules and registration are available in our customer portal.
URL:https://acrofitgymnastics-sarasota.com/event/classes-camp-begin/
LOCATION:Acro Fit Gymnastics\, 4015 Clark Road\, Sarasota\, FL\, 34233\, United States
CATEGORIES:Sessions,Summer Camp
END:VEVENT
BEGIN:VEVENT
DTSTART;VALUE=DATE:20200203
DTEND;VALUE=DATE:20200204
DTSTAMP:20260417T203744
CREATED:20200110T143948Z
LAST-MODIFIED:20200110T143948Z
UID:3204-1580688000-1580774399@acrofitgymnastics-sarasota.com
SUMMARY:Combo Session Begins
DESCRIPTION:CLASS SESSION INFORMATION\nCOMBO Session Dates: Monday\, February 3 – May 22\n(15) Classes in the Combo Session (New Year + Spring Session) \nNO CLASSES: MARCH 16 – 20TH (SRQ Spring Break) \n2020 NEW YEAR SESSION INFO
URL:https://acrofitgymnastics-sarasota.com/event/combo-session-begins/
LOCATION:Acro Fit Gymnastics\, 4015 Clark Road\, Sarasota\, FL\, 34233\, United States
CATEGORIES:Sessions
END:VEVENT
BEGIN:VEVENT
DTSTART;VALUE=DATE:20200203
DTEND;VALUE=DATE:20200204
DTSTAMP:20260417T203744
CREATED:20200110T141857Z
LAST-MODIFIED:20200110T141857Z
UID:3200-1580688000-1580774399@acrofitgymnastics-sarasota.com
SUMMARY:New Year Session Begins
DESCRIPTION:CLASS SESSION INFORMATION\nNew Year Session Dates: Monday\, February 3 – April 3\n(9) Classes in the New Year Session \nCOMBO Session Dates: Monday\, February 3 – May 22\n(15) Classes in the Combo Session (New Year + Spring Session) \nNO CLASSES: MARCH 16 – 20TH (SRQ Spring Break) \n2020 NEW YEAR SESSION INFO \n  \n 
URL:https://acrofitgymnastics-sarasota.com/event/new-year-session-begins/
LOCATION:Acro Fit Gymnastics\, 4015 Clark Road\, Sarasota\, FL\, 34233\, United States
CATEGORIES:Sessions
END:VEVENT
BEGIN:VEVENT
DTSTART;TZID=UTC:20191005T090000
DTEND;TZID=UTC:20191005T090000
DTSTAMP:20260417T203744
CREATED:20190928T230927Z
LAST-MODIFIED:20191006T193458Z
UID:2972-1570266000-1570266000@acrofitgymnastics-sarasota.com
SUMMARY:Saturday Class Session begins
DESCRIPTION:We are opening up 2 Saturday Classes beginning Saturday\, October 5th.\nThe classes will take place in the developmental gym. \nThe Saturday session will run October 5 – December 14th. \nThe session fee is $135.\nThis covers 9 classes within the 11-week period.\nNo class October 26th & November 30th. \nAcro & Play 9:00-9:45 (Ages 3 yrs & under\, parent & child class)\nAcrobat 9:45-10:30 (Ages 3-5\, PRE-K) \n* $15 /$10 reg fee.\n*$10 OFF sibling discount.
URL:https://acrofitgymnastics-sarasota.com/event/saturday-class-session-begins/
LOCATION:Acro Fit Gymnastics\, 4015 Clark Road\, Sarasota\, FL\, 34233\, United States
CATEGORIES:Sessions
END:VEVENT
BEGIN:VEVENT
DTSTART;TZID=UTC:20180205T080000
DTEND;TZID=UTC:20180205T170000
DTSTAMP:20260417T203744
CREATED:20180109T135332Z
LAST-MODIFIED:20180109T140001Z
UID:1427-1517817600-1517850000@acrofitgymnastics-sarasota.com
SUMMARY:New Year Session
DESCRIPTION:The New Year Session begins on Monday\, February 5th and runs through Friday\, March 23rd. Registration is available for current students only. Open registration will begin on January 19th. Please call or stop in between M-F 9am-3pm for placement questions and registration. Calls after 3pm will go to voicemail & be returned the next business day. \nNEW YEAR SESSION REG FORM \nCLASS SCHEDULE \n 
URL:https://acrofitgymnastics-sarasota.com/event/new-year-session/
LOCATION:FL
CATEGORIES:Sessions
END:VEVENT
END:VCALENDAR